BEGIN:VCALENDAR
VERSION:2.0
PRODID:-//Festival les Esclaffades 4 &amp; 5 juillet 2025 - ECPv6.5.0//NONSGML v1.0//EN
CALSCALE:GREGORIAN
METHOD:PUBLISH
X-WR-CALNAME:Festival les Esclaffades 4 &amp; 5 juillet 2025
X-ORIGINAL-URL:https://www.festival-esclaffades.com
X-WR-CALDESC:évènements pour Festival les Esclaffades 4 &amp; 5 juillet 2025
REFRESH-INTERVAL;VALUE=DURATION:PT1H
X-Robots-Tag:noindex
X-PUBLISHED-TTL:PT1H
BEGIN:VTIMEZONE
TZID:Europe/Helsinki
BEGIN:DAYLIGHT
TZOFFSETFROM:+0200
TZOFFSETTO:+0300
TZNAME:EEST
DTSTART:20240331T010000
END:DAYLIGHT
BEGIN:STANDARD
TZOFFSETFROM:+0300
TZOFFSETTO:+0200
TZNAME:EET
DTSTART:20241027T010000
END:STANDARD
END:VTIMEZONE
BEGIN:VEVENT
DTSTART;TZID=Europe/Helsinki:20240907T160000
DTEND;TZID=Europe/Helsinki:20240907T163000
DTSTAMP:20260421T130326
CREATED:20240521T093255Z
LAST-MODIFIED:20240521T093303Z
UID:4088-1725724800-1725726600@www.festival-esclaffades.com
SUMMARY:D’ICI LÀ Cie Jusqu’à Maintenant (Bretagne)
DESCRIPTION:Duo chorégraphique écrit pour raconter l’histoire d’une rencontre amoureuse.\nUne confidence dansée et partagée comme une invitation à rire\, à se\nsouvenir et à aimer.
URL:https://www.festival-esclaffades.com/event/dici-la-cie-jusqua-maintenant-bretagne/
LOCATION:Place du Rire
END:VEVENT
END:VCALENDAR